BEGIN:VCALENDAR
VERSION:2.0
PRODID:-//Volt Europa//Events//EN
CALSCALE:GREGORIAN
METHOD:PUBLISH
BEGIN:VEVENT
UID:meetn-greet-1-1711987200@voltluxembourg.org
DTSTAMP:20260425T104955Z
DTSTART;TZID=Europe/Luxembourg:20240401T180000
DTEND;TZID=Europe/Luxembourg:20240401T210000
SUMMARY:Meet'n Greet
DESCRIPTION:Tu veux nous rencontrer ? Alors viens à notre Meet'n Greet\, p
 rends un verre avec nous et discute de politique progressiste et paneuropé
 enne ! Et non\, même si nous nous rencontrons le 1er avril\, ce n'est pas 
 un poisson d'avril !Nous sommes heureux d'accueillir tous ceux qui souhaite
 nt discuter avec nous\, que ce soit de manière planifiée ou spontanée.
LOCATION:Rotondes (Luxembourg)
URL:https://voltluxembourg.org/fr/evenements/meetn-greet-1
END:VEVENT
END:VCALENDAR
