BEGIN:VCALENDAR
VERSION:2.0
PRODID:-//Volt Europa//Events//EN
CALSCALE:GREGORIAN
METHOD:PUBLISH
BEGIN:VEVENT
UID:marche-pour-legalite-2025-lux-pride-1752316200@voltluxembourg.org
DTSTAMP:20260425T105645Z
DTSTART;TZID=Europe/Luxembourg:20250712T123000
DTEND;TZID=Europe/Luxembourg:20250712T143000
SUMMARY:Marche pour l'égalité 2025 🏳️‍🌈 (Lux Pride)
DESCRIPTION:Cette année encore\, Volt Luxembourg participe à la Marche po
 ur l'égalité à travers Esch\, célébrant la diversité et l'acceptation
  dans toutes les couleurs de l'arc-en-ciel. 🌈 Veux-tu te joindre à nous
  et montrer tes couleurs ? Contacte-nous et défends avec nous les droits d
 e la communauté LGBTQIA+ 🏳️‍🌈 dans le monde entier ! Plus d'info
 s sur le site officiel : ⬎
LOCATION:Esch-sur-Alzette
URL:https://voltluxembourg.org/fr/evenements/marche-pour-legalite-2025-lux-
 pride
END:VEVENT
END:VCALENDAR
