BEGIN:VCALENDAR
VERSION:2.0
PRODID:-//Volt Europa//Events//EN
CALSCALE:GREGORIAN
METHOD:PUBLISH
BEGIN:VEVENT
UID:marche-feministe-2024-1709913600@voltluxembourg.org
DTSTAMP:20260425T105127Z
DTSTART;TZID=Europe/Luxembourg:20240308T170000
DTEND;TZID=Europe/Luxembourg:20240308T190000
SUMMARY:Marche féministe 2024
DESCRIPTION:Cette année encore\, Volt participe à la Marche féministe or
 ganisée par JIF Luxembourg. Nous sommes toujours en faveur de l'égalité 
 des droits pour tous les genres - rejoignez-nous ! Pour plus d'informations
 \, visitez le site  Fraestreik.lu .
LOCATION:Luxembourg-ville
URL:https://voltluxembourg.org/fr/evenements/marche-feministe-2024
END:VEVENT
END:VCALENDAR
