BEGIN:VCALENDAR
VERSION:2.0
PRODID:-//Volt Europa//Events//EN
CALSCALE:GREGORIAN
METHOD:PUBLISH
BEGIN:VEVENT
UID:march-de-schengen-pour-l-ouverture-des-frontieres-1730548800@voltluxemb
 ourg.org
DTSTAMP:20260424T174309Z
DTSTART;TZID=Europe/Luxembourg:20241102T130000
DTEND;TZID=Europe/Luxembourg:20241102T153000
SUMMARY:Marche de Schengen pour l'ouverture des frontières
DESCRIPTION:L'introduction de contrôles aux frontières par l'Allemagne et
  la France est une attaque contre un élément central de l'unité europée
 nne. Volt y voit un grand pas en arrière. Le mouvement organise donc une m
 arche pour l'ouverture des frontières :  Le 2 novembre\, à partir de 13 h
 eures\, d'Alach à Schengen en passant par Perl. Les frontières ouvertes d
 e l'Europe ont été introduites en 1985 dans l'espace Schengen. La France\
 , l'Allemagne de l'Ouest et la Belgique\, les Pays-Bas et le Luxembourg ont
  été
LOCATION:Apach (FR)\, Perl (DE)\, Schengen (LU)
URL:https://voltluxembourg.org/fr/evenements/march-de-schengen-pour-l-ouver
 ture-des-frontieres
END:VEVENT
END:VCALENDAR
