BEGIN:VCALENDAR
VERSION:2.0
PRODID:-//Volt Europa//Events//EN
CALSCALE:GREGORIAN
METHOD:PUBLISH
BEGIN:VEVENT
UID:diner-de-remerciement-1720285200@voltluxembourg.org
DTSTAMP:20260425T105127Z
DTSTART;TZID=Europe/Luxembourg:20240706T190000
DTEND;TZID=Europe/Luxembourg:20240706T220000
SUMMARY:Dîner de remerciement
DESCRIPTION:Volt Luxembourg remercie tous ses membres qui ont aidé si assi
 dûment à la campagne électorale. Ensemble\, nous nous retrouvons au rest
 aurant «  Al Eechternoach  » pour un moment de convivialité autour d'u
 n bon repas et d'une bonne ambiance.
LOCATION:Al Eechternoach
URL:https://voltluxembourg.org/fr/evenements/diner-de-remerciement
END:VEVENT
END:VCALENDAR
