BEGIN:VCALENDAR
VERSION:2.0
PRODID:-//Volt Europa//Events//EN
CALSCALE:GREGORIAN
METHOD:PUBLISH
BEGIN:VEVENT
UID:assemblee-generale-de-volt-europa-2025-1763802000@voltluxembourg.org
DTSTAMP:20260423T194552Z
DTSTART;TZID=Europe/Luxembourg:20251122T100000
DTEND;TZID=Europe/Luxembourg:20251123T170000
SUMMARY:AssemblÃ©e gÃ©nÃ©rale de Volt Europa
DESCRIPTION:L'Europe Ã©volue rapidement\, et Volt estime qu'il est temps de
  prendre les devants avec unitÃ© et dÃ©termination. Lors de l'AssemblÃ©e gÃ
 ©nÃ©rale de cette annÃ©e Ã  Francfort\, en Allemagne\, notre communautÃ© pa
 neuropÃ©enne se rÃ©unira enfin en personne pour Ã©changer\, apprendre et re
 nforcer notre vision d'une Europe forte et souveraine. Tout au long de l'an
 nÃ©e\, les bÃ©nÃ©voles de Volt travaillent au-delÃ  des frontiÃ¨res pour Ã©
 laborer des politiques sur tous les sujets\, de l'IA Ã  la durabilitÃ©. Auj
 ourd'hui\, Ã  F
LOCATION:Francfort ðŸ‡©ðŸ‡ª
URL:https://voltluxembourg.org/fr/evenements/assemblee-generale-de-volt-eur
 opa-2025
END:VEVENT
END:VCALENDAR
