BEGIN:VCALENDAR
VERSION:2.0
PRODID:-//Volt Europa//Events//EN
CALSCALE:GREGORIAN
METHOD:PUBLISH
BEGIN:VEVENT
UID:ag-2025-1736614800@voltluxembourg.org
DTSTAMP:20260424T174922Z
DTSTART;TZID=Europe/Luxembourg:20250111T180000
DTEND;TZID=Europe/Luxembourg:20250111T190000
SUMMARY:Assemblée Générale de Volt Luxembourg 2025
DESCRIPTION:Toute personne souhaitant assister à notre AG doit nous en inf
 ormer afin que nous puissions réserver autant de places que nécessaire. N
 ous demandons à nos membres d'avoir payé leur cotisation d'ici là afin d
 'être en pleine possession de leurs droits de vote.
LOCATION:Centre Culturel Altrimenti (Luxembourg-ville)
URL:https://voltluxembourg.org/fr/evenements/ag-2025
END:VEVENT
END:VCALENDAR
