BEGIN:VCALENDAR
VERSION:2.0
PRODID:-//Volt Europa//Events//EN
CALSCALE:GREGORIAN
METHOD:PUBLISH
BEGIN:VEVENT
UID:womens-march-2024-1709913600@voltluxembourg.org
DTSTAMP:20260425T105036Z
DTSTART;TZID=Europe/Luxembourg:20240308T170000
DTEND;TZID=Europe/Luxembourg:20240308T190000
SUMMARY:Women's March 2024
DESCRIPTION:Once again this year\, Volt is taking part in the Women's March
  organised by JIF Luxembourg. We are always in favour of equal rights for a
 ll genders - join us! For more information\, visit  Fraestreik.lu .
LOCATION:Luxembourg-city
URL:https://voltluxembourg.org/events/womens-march-2024
END:VEVENT
END:VCALENDAR
