BEGIN:VCALENDAR
VERSION:2.0
PRODID:-//Volt Europa//Events//EN
CALSCALE:GREGORIAN
METHOD:PUBLISH
BEGIN:VEVENT
UID:show-up-for-europe-1717239600@voltluxembourg.org
DTSTAMP:20260425T124815Z
DTSTART;TZID=Europe/Luxembourg:20240601T130000
DTEND;TZID=Europe/Luxembourg:20240601T180000
SUMMARY:Show Up for Europe 🇪🇺
DESCRIPTION:The Luxembourg 🇱🇺  team meets in  Esch-sur-Alzette ! We o
 ffer an information stand in our small pavilion near the municipality of Es
 ch and will distribute flyers. Come along\, get informed and show your Euro
 pean spirit! _________________________________ Across the continent\, Volt 
 teams will be on the streets to show up against nationalism and for a unite
 d EU! Volt was founded because we live in a world where  no national govern
 ment can solve cross-border challenges alone .  Volt is leading by exa
LOCATION:Esch-sur-Alzette
URL:https://voltluxembourg.org/events/show-up-for-europe
END:VEVENT
END:VCALENDAR
