BEGIN:VCALENDAR
VERSION:2.0
PRODID:-//Volt Europa//Events//EN
CALSCALE:GREGORIAN
METHOD:PUBLISH
BEGIN:VEVENT
UID:policy-workshop-1731850200@voltluxembourg.org
DTSTAMP:20260425T105027Z
DTSTART;TZID=Europe/Luxembourg:20241117T143000
DTEND;TZID=Europe/Luxembourg:20241117T173000
SUMMARY:Policy Workshop
DESCRIPTION:Here we will talk about our future electoral programme\, see wh
 at issues we need to address and establish a real policy team that will lea
 d the way in the future.
LOCATION:Roeser
URL:https://voltluxembourg.org/events/policy-workshop
END:VEVENT
END:VCALENDAR
