BEGIN:VCALENDAR
VERSION:2.0
PRODID:-//Volt Europa//Events//EN
CALSCALE:GREGORIAN
METHOD:PUBLISH
BEGIN:VEVENT
UID:meetn-greet-2026-07-16-1784221200@voltluxembourg.org
DTSTAMP:20260421T122250Z
DTSTART;TZID=Europe/Luxembourg:20260716T190000
DTEND;TZID=Europe/Luxembourg:20260716T213000
SUMMARY:Meet & Greet
DESCRIPTION:Tu veux nous rencontrer ? Alors viens à notre Meet'n Greet\, p
 rends un verre avec nous et discute de politique progressiste et paneuropé
 enne ! Nous sommes heureux d'accueillir tous ceux qui souhaitent discuter a
 vec nous\, que ce soit de manière planifiée ou spontanée.
LOCATION:Sud (tbd)
URL:https://voltluxembourg.org/fr/evenements/meetn-greet-2026-07-16
END:VEVENT
END:VCALENDAR
