BEGIN:VCALENDAR
VERSION:2.0
PRODID:-//Volt Europa//Events//EN
CALSCALE:GREGORIAN
METHOD:PUBLISH
BEGIN:VEVENT
UID:meetn-greet-2026-05-21-1-1781800200@voltluxembourg.org
DTSTAMP:20260421T122127Z
DTSTART;TZID=Europe/Luxembourg:20260618T183000
DTEND;TZID=Europe/Luxembourg:20260618T213000
SUMMARY:Meet & Greet
DESCRIPTION:You want to get to know us? Then why not come to our Meet'n Gre
 et\, have a drink with us and discuss progressive\, pan-European politics! 
 We look forward to meeting everyone who wants to talk to us - whether plann
 ed or spontaneous.
LOCATION:Kirchberg (tbd)
URL:https://voltluxembourg.org/events/meetn-greet-2026-05-21-1
END:VEVENT
END:VCALENDAR
