BEGIN:VCALENDAR
VERSION:2.0
PRODID:-//Volt Europa//Events//EN
CALSCALE:GREGORIAN
METHOD:PUBLISH
BEGIN:VEVENT
UID:meetn-greet-2024-04-29-1-1716825600@voltluxembourg.org
DTSTAMP:20260425T105359Z
DTSTART;TZID=Europe/Luxembourg:20240527T180000
DTEND;TZID=Europe/Luxembourg:20240527T210000
SUMMARY:Meet & Greet
DESCRIPTION:Tu veux nous rencontrer ? Alors viens à notre Meet'n Greet\, p
 rends un verre avec nous et discute de politique progressiste et paneuropé
 enne ! Nous sommes heureux d'accueillir tous ceux qui souhaitent discuter a
 vec nous\, que ce soit de manière planifiée ou spontanée.
LOCATION:Updown Bar (Luxembourg-Ville)
URL:https://voltluxembourg.org/fr/evenements/meetn-greet-2024-04-29-1
END:VEVENT
END:VCALENDAR
