BEGIN:VCALENDAR
VERSION:2.0
PRODID:-//Volt Europa//Events//EN
CALSCALE:GREGORIAN
METHOD:PUBLISH
BEGIN:VEVENT
UID:general-assembly-of-volt-europa-2025-1763802000@voltluxembourg.org
DTSTAMP:20260423T180151Z
DTSTART;TZID=Europe/Luxembourg:20251122T100000
DTEND;TZID=Europe/Luxembourg:20251123T170000
SUMMARY:General Assembly of Volt Europa
DESCRIPTION:Europe is changing fast\, and Volt believes it’s time to lead
  with unity and purpose. At this year’s General Assembly in Frankfurt\, G
 ermany\, our pan-European community finally meets in person to connect\, le
 arn\, and strengthen our vision for a strong\, sovereign Europe. Throughout
  the year\, Volt volunteers work across borders to build policies on everyt
 hing from AI to sustainability. Now\, in Frankfurt—a city with a rich his
 tory of bringing Europe together—we gather to celebrate collaboration\, s
 harp
LOCATION:Frankfurt 🇩🇪
URL:https://voltluxembourg.org/events/general-assembly-of-volt-europa-2025
END:VEVENT
END:VCALENDAR
