BEGIN:VCALENDAR
VERSION:2.0
PRODID:-//Volt Europa//Events//EN
CALSCALE:GREGORIAN
METHOD:PUBLISH
BEGIN:VEVENT
UID:ga-2025-1736614800@voltluxembourg.org
DTSTAMP:20260421T195341Z
DTSTART;TZID=Europe/Luxembourg:20250111T180000
DTEND;TZID=Europe/Luxembourg:20250111T190000
SUMMARY:General Assembly of Volt Luxembourg 2025
DESCRIPTION:Anyone wishing to attend our GA must inform us of this so that 
 we can reserve the appropriate number of seats. We kindly request that our 
 members have paid their membership fees by then in order to be able to exer
 cise their voting rights in full.
LOCATION:Centre Culturel Altrimenti (Luxembourg-city)
URL:https://voltluxembourg.org/events/ga-2025
END:VEVENT
END:VCALENDAR
