BEGIN:VCALENDAR
VERSION:2.0
PRODID:-//Volt Europa//Events//EN
CALSCALE:GREGORIAN
METHOD:PUBLISH
BEGIN:VEVENT
UID:festival-des-migrations-1708772400@voltluxembourg.org
DTSTAMP:20260425T105027Z
DTSTART;TZID=Europe/Luxembourg:20240224T120000
DTEND;TZID=Europe/Luxembourg:20240225T200000
SUMMARY:Festival des migrations
DESCRIPTION:Once again\, the Festival des Migrations\, de la Culture et de 
 la Citoyenneté is set for an even more exceptional 2024 edition. For its 4
 1st anniversary\, the Festival will once again be celebrating Luxembourg's 
 cultural diversity. But this year's edition will focus more specifically on
  the passing of time and the seasons.  Volt Luxembourg is present with a s
 tand.
LOCATION:Luxexpo
URL:https://voltluxembourg.org/events/festival-des-migrations
END:VEVENT
END:VCALENDAR
