BEGIN:VCALENDAR
VERSION:2.0
PRODID:-//Volt Europa//Events//EN
CALSCALE:GREGORIAN
METHOD:PUBLISH
BEGIN:VEVENT
UID:equality-march-2025-lux-pride-1752316200@voltluxembourg.org
DTSTAMP:20260425T105036Z
DTSTART;TZID=Europe/Luxembourg:20250712T123000
DTEND;TZID=Europe/Luxembourg:20250712T143000
SUMMARY:Equality March 2025 ๐ณ๏ธโ๐ (Luxย Pride)
DESCRIPTION:Once again this year\, Volt Luxembourg is taking part in the Eq
 uality March through Esch\, celebrating diversity and acceptance in all the
  colours of the rainbow. ๐ Would you like to join us and show your colou
 rs? Contact us and stand up with us for the rights of the LGBTQIA+ ๐ณ๏ธโ
 ๐ community worldwide! More info on the official website: โฌ
LOCATION:Esch-sur-Alzette
URL:https://voltluxembourg.org/events/equality-march-2025-lux-pride
END:VEVENT
END:VCALENDAR
